BEGIN:VCALENDAR
VERSION:2.0
PRODID:-//https://www.ischiaeventi.com///NONSGML kigkonsult.se iCalcreator 2.10.15//
METHOD:PUBLISH
BEGIN:VEVENT
UID:20260424T085339UTC-05421BeuID@https://www.ischiaeventi.com/
DTSTAMP:20260424T085339Z
DESCRIPTION:19:00 ACCENDI LA NOTTE!&nbsp\; Intrattenimento musicale per il 
 centro e il porto di Forio con Special Guest LDA e Petit che accenderanno 
 la serata a ritmo di musica in Forio. https://www.ischiaeventi.com/eventi-
 ad-ischia/cultura/dibattiti-ed-incontri-culturali/evento/34105-forio-merry
 land-accendi-la-notte
DTSTART:20241221T180000Z
DTEND:20241221T225900Z
LOCATION:Comune di Forio (Piazza Municipio\, 1\, 80075 Forio NA\, Italia)
SUMMARY:Forio MerryLand: ACCENDI LA NOTTE!  
URL:https://www.ischiaeventi.com/eventi-ad-ischia/cultura/dibattiti-ed-inco
 ntri-culturali/evento/34105-forio-merryland-accendi-la-notte
END:VEVENT
END:VCALENDAR
