BEGIN:VCALENDAR
VERSION:2.0
PRODID:-//https://www.ischiaeventi.com///NONSGML kigkonsult.se iCalcreator 2.10.15//
METHOD:PUBLISH
BEGIN:VEVENT
UID:20260424T071227UTC-0873UAXUgN@https://www.ischiaeventi.com/
DTSTAMP:20260424T071227Z
DESCRIPTION:18.30 SCARIUM spettacolo teatrale itinerantenel vicolo del Torr
 ione&nbsp\; https://www.ischiaeventi.com/eventi-ad-ischia/cultura/dibattit
 i-ed-incontri-culturali/evento/34088-forio-merryland-scarium
DTSTART:20241213T173000Z
DTEND:20241213T190000Z
LOCATION:Comune di Forio (Piazza Municipio\, 1\, 80075 Forio NA\, Italia)
SUMMARY:Forio MerryLand: SCARIUM 
URL:https://www.ischiaeventi.com/eventi-ad-ischia/cultura/dibattiti-ed-inco
 ntri-culturali/evento/34088-forio-merryland-scarium
END:VEVENT
END:VCALENDAR
