BEGIN:VCALENDAR
VERSION:2.0
PRODID:-//https://www.ischiaeventi.com///NONSGML kigkonsult.se iCalcreator 2.10.15//
METHOD:PUBLISH
BEGIN:VEVENT
UID:20260424T135724UTC-6957vXpBm2@https://www.ischiaeventi.com/
DTSTAMP:20260424T135724Z
DESCRIPTION:20.00 CABARET SHOW una serata di puro divertimento con i simpat
 ici sketch del famoso comico di Made in Sud in Piazza San Leonardo in Panz
 a https://www.ischiaeventi.com/eventi-ad-ischia/cultura/dibattiti-ed-incon
 tri-culturali/evento/34085-forio-merryland-cabaret-show
DTSTART:20241208T190000Z
DTEND:20241208T210000Z
LOCATION:Comune di Forio (Piazza Municipio\, 1\, 80075 Forio NA\, Italia)
SUMMARY:Forio MerryLand: CABARET SHOW
URL:https://www.ischiaeventi.com/eventi-ad-ischia/cultura/dibattiti-ed-inco
 ntri-culturali/evento/34085-forio-merryland-cabaret-show
END:VEVENT
END:VCALENDAR
