BEGIN:VCALENDAR
VERSION:2.0
PRODID:-//https://www.ischiaeventi.com///NONSGML kigkonsult.se iCalcreator 2.10.15//
METHOD:PUBLISH
BEGIN:VEVENT
UID:20260424T085453UTC-1931bVLag1@https://www.ischiaeventi.com/
DTSTAMP:20260424T085453Z
DESCRIPTION:a Seconda Edizione di Game Island Forio sta per approdare!\n Il
  momento è arrivato\, 12 e 13 ottobre 2024 dalle ore 16 presso la Cittadel
 la della Carità “Don Pasquale Sferratore” nel Rione Umberto primo a Forio.
  I ragazzi del Drago Verde vi aspettano! https://www.ischiaeventi.com/even
 ti-ad-ischia/cultura/dibattiti-ed-incontri-culturali/evento/33607-game-isl
 and-forio-ischia-ii-edizione
DTSTART:20241012T140000Z
DTEND:20241012T170000Z
LOCATION:Monterone (Via Giovanni Castellaccio\, 109\, 80075 Forio NA\, Ital
 ia)
SUMMARY:GAME ISLAND FORIO ISCHIA II edizione
URL:https://www.ischiaeventi.com/eventi-ad-ischia/cultura/dibattiti-ed-inco
 ntri-culturali/evento/33607-game-island-forio-ischia-ii-edizione
END:VEVENT
END:VCALENDAR
