BEGIN:VCALENDAR
VERSION:2.0
PRODID:-//https://www.ischiaeventi.com///NONSGML kigkonsult.se iCalcreator 2.10.15//
METHOD:PUBLISH
BEGIN:VEVENT
UID:20260424T080332UTC-6034uVSbvV@https://www.ischiaeventi.com/
DTSTAMP:20260424T080332Z
DESCRIPTION:Wedding cafè in concerto con i migliori successi italiani e int
 ernazionali https://www.ischiaeventi.com/eventi-ad-ischia/cultura/dibattit
 i-ed-incontri-culturali/evento/33143-wedding-cafe
DTSTART:20240928T190000Z
DTEND:20240928T210000Z
LOCATION:Borgo di Sant'Angelo (Via Nazario Sauro\, Sant'angelo NA\, Italia)
SUMMARY:Wedding Cafè
URL:https://www.ischiaeventi.com/eventi-ad-ischia/cultura/dibattiti-ed-inco
 ntri-culturali/evento/33143-wedding-cafe
END:VEVENT
END:VCALENDAR
