BEGIN:VCALENDAR
VERSION:2.0
PRODID:-//https://www.ischiaeventi.com///NONSGML kigkonsult.se iCalcreator 2.10.15//
METHOD:PUBLISH
BEGIN:VEVENT
UID:20260424T063140UTC-4172keUbGh@https://www.ischiaeventi.com/
DTSTAMP:20260424T063140Z
DESCRIPTION:FUNK OFF STREET BANDImprovvisazioni di musica e follie https://
 www.ischiaeventi.com/eventi-ad-ischia/cultura/dibattiti-ed-incontri-cultur
 ali/evento/32321-estate-insieme-lacco-ameno-funk-off-street-band
DTSTART:20240928T090000Z
DTEND:20240928T133000Z
LOCATION:Piazza Santa Restituta  (Piazza Santa Restituta\, 80076 Lacco Amen
 o NA\, Italia)
SUMMARY:Estate insieme Lacco Ameno: FUNK OFF STREET BAND
URL:https://www.ischiaeventi.com/eventi-ad-ischia/cultura/dibattiti-ed-inco
 ntri-culturali/evento/32321-estate-insieme-lacco-ameno-funk-off-street-ban
 d
END:VEVENT
END:VCALENDAR
