BEGIN:VCALENDAR
VERSION:2.0
PRODID:-//https://www.ischiaeventi.com///NONSGML kigkonsult.se iCalcreator 2.10.15//
METHOD:PUBLISH
BEGIN:VEVENT
UID:20260424T063131UTC-1872UsFsOa@https://www.ischiaeventi.com/
DTSTAMP:20260424T063131Z
DESCRIPTION:A cura del Gruppo vocale strumentale La Ghironda e la direzione
  artistica di Carmine Pacera\, con la partecipazione del tenore Nazareno D
 'Arzillo e della soprano Silvestri Carolina\, accompagnati al piano dal M 
 Ivan Gira. https://www.ischiaeventi.com/eventi-ad-ischia/cultura/dibattiti
 -ed-incontri-culturali/evento/32317-estate-insieme-lacco-ameno-omaggio-a-g
 iacomo-puccini
DTSTART:20240918T193000Z
DTEND:20240918T213000Z
LOCATION:Villa Arbusto (Corso Angelo Rizzoli\, 194\, 80076 Lacco Ameno NA\,
  Italia)
SUMMARY:Estate insieme Lacco Ameno: OMAGGIO A GIACOMO PUCCINI
URL:https://www.ischiaeventi.com/eventi-ad-ischia/cultura/dibattiti-ed-inco
 ntri-culturali/evento/32317-estate-insieme-lacco-ameno-omaggio-a-giacomo-p
 uccini
END:VEVENT
END:VCALENDAR
