BEGIN:VCALENDAR
VERSION:2.0
PRODID:-//https://www.ischiaeventi.com///NONSGML kigkonsult.se iCalcreator 2.10.15//
METHOD:PUBLISH
BEGIN:VEVENT
UID:20260424T080417UTC-7080MdZu8k@https://www.ischiaeventi.com/
DTSTAMP:20260424T080417Z
DESCRIPTION:Umberto Broccoli racconta la Villa La Colombaia di Luchino Visc
 onti\n31 agosto ore 20:00\nPrenotazione obbligatoria fino a esaurimento po
 sti scrivendo a beniculturali@comune.forio.na.it https://www.ischiaeventi.
 com/eventi-ad-ischia/cultura/dibattiti-ed-incontri-culturali/evento/31902-
 umberto-broccoli-racconta-la-villa-la-colombaia-di-luchino-visconti
DTSTART:20240831T180000Z
DTEND:20240831T203000Z
LOCATION:La Colombaia (Via Francesco Calise\, 130\, 80075 Forio NA\, Italia
 )
SUMMARY:Umberto Broccoli racconta la Villa La Colombaia di Luchino Visconti
URL:https://www.ischiaeventi.com/eventi-ad-ischia/cultura/dibattiti-ed-inco
 ntri-culturali/evento/31902-umberto-broccoli-racconta-la-villa-la-colombai
 a-di-luchino-visconti
END:VEVENT
END:VCALENDAR
