BEGIN:VCALENDAR
VERSION:2.0
PRODID:-//https://www.ischiaeventi.com///NONSGML kigkonsult.se iCalcreator 2.10.15//
METHOD:PUBLISH
BEGIN:VEVENT
UID:20260424T065429UTC-3305HKaeLz@https://www.ischiaeventi.com/
DTSTAMP:20260424T065429Z
DESCRIPTION:Ore 21.30 Concerto lirico - sinfonico della banda musicale citt
 à di Ischia con la partecipazione del tenore FRANCESCO MALAPENA. Stand Gas
 tronomico https://www.ischiaeventi.com/eventi-ad-ischia/cultura/dibattiti-
 ed-incontri-culturali/evento/31877-san-giovan-giuseppe-della-croce-concert
 o-lirico-sinfonico-della-banda-musicale-citta-di-ischia
DTSTART:20240901T193000Z
DTEND:20240901T213000Z
LOCATION:Piazzale delle Alghe (Via Boccaccio\, 1\, 80077 Ischia NA\, Italia
 )
SUMMARY:San Giovan Giuseppe della Croce: concerto lirico - sinfonico della 
 banda musicale città di Ischia 
URL:https://www.ischiaeventi.com/eventi-ad-ischia/cultura/dibattiti-ed-inco
 ntri-culturali/evento/31877-san-giovan-giuseppe-della-croce-concerto-liric
 o-sinfonico-della-banda-musicale-citta-di-ischia
END:VEVENT
END:VCALENDAR
