BEGIN:VCALENDAR
VERSION:2.0
PRODID:-//https://www.ischiaeventi.com///NONSGML kigkonsult.se iCalcreator 2.10.15//
METHOD:PUBLISH
BEGIN:VEVENT
UID:20260424T081033UTC-9991i8Iuw1@https://www.ischiaeventi.com/
DTSTAMP:20260424T081033Z
DESCRIPTION:Ore 21.00 Piazzale delle Alghe: Spettacolo con la esilarante co
 micità di SIMONE SCHETTINO Stand Gastronomico https://www.ischiaeventi.com
 /eventi-ad-ischia/cultura/dibattiti-ed-incontri-culturali/evento/31875-san
 -giovan-giuseppe-della-croce-spettacolo-con-la-esilarante-comicita-di-simo
 ne-schettino
DTSTART:20240830T190000Z
DTEND:20240830T213000Z
LOCATION:Piazzale delle Alghe (Via Boccaccio\, 1\, 80077 Ischia NA\, Italia
 )
SUMMARY:San Giovan Giuseppe della Croce: spettacolo con la esilarante comic
 ità di SIMONE SCHETTINO
URL:https://www.ischiaeventi.com/eventi-ad-ischia/cultura/dibattiti-ed-inco
 ntri-culturali/evento/31875-san-giovan-giuseppe-della-croce-spettacolo-con
 -la-esilarante-comicita-di-simone-schettino
END:VEVENT
END:VCALENDAR
