BEGIN:VCALENDAR
VERSION:2.0
PRODID:-//https://www.ischiaeventi.com///NONSGML kigkonsult.se iCalcreator 2.10.15//
METHOD:PUBLISH
BEGIN:VEVENT
UID:20260424T065056UTC-49020OVD6m@https://www.ischiaeventi.com/
DTSTAMP:20260424T065056Z
DESCRIPTION:92^ edizione della festa a mare agli scogli di Sant'Anna\nPrefe
 sta tra poesia e musica • Sfilata delle barche allegoriche • Spettacolo di
  fuochi piotecnici • Incendio del castello • Ospiti e divertimento https:/
 /www.ischiaeventi.com/eventi-ad-ischia/cultura/dibattiti-ed-incontri-cultu
 rali/evento/31290-festa-a-mare-agli-scogli-di-santanna
DTSTART;VALUE=DATE:20240726
LOCATION:Borgo di Ischia Ponte (Piazzale Aragonese\, 1\, 80077 Ischia\, Nap
 les\, Italy)
SUMMARY:Festa a mare agli scogli di Sant'Anna
URL:https://www.ischiaeventi.com/eventi-ad-ischia/cultura/dibattiti-ed-inco
 ntri-culturali/evento/31290-festa-a-mare-agli-scogli-di-santanna
END:VEVENT
END:VCALENDAR
