BEGIN:VCALENDAR
VERSION:2.0
PRODID:-//https://www.ischiaeventi.com///NONSGML kigkonsult.se iCalcreator 2.10.15//
METHOD:PUBLISH
BEGIN:VEVENT
UID:20260424T123129UTC-9512Of4cL3@https://www.ischiaeventi.com/
DTSTAMP:20260424T123129Z
DESCRIPTION:Summer Time Serrara: MUSICNIGHT CON WEDDING CAFÈ BAND https://w
 ww.ischiaeventi.com/eventi-ad-ischia/cultura/dibattiti-ed-incontri-cultura
 li/evento/31245-summer-time-serrara-musicnight-con-wedding-cafe-band
DTSTART:20240811T190000Z
DTEND:20240811T210000Z
LOCATION:Piazzetta Sant'Angelo\, Serrara Fontana (Via Sant'Angelo\, 80070 S
 errara Fontana NA\, Italia)
SUMMARY:Summer Time Serrara: MUSICNIGHT CON WEDDING CAFÈ BAND
URL:https://www.ischiaeventi.com/eventi-ad-ischia/cultura/dibattiti-ed-inco
 ntri-culturali/evento/31245-summer-time-serrara-musicnight-con-wedding-caf
 e-band
END:VEVENT
END:VCALENDAR
