BEGIN:VCALENDAR
VERSION:2.0
PRODID:-//https://www.ischiaeventi.com///NONSGML kigkonsult.se iCalcreator 2.10.15//
METHOD:PUBLISH
BEGIN:VEVENT
UID:20260424T123128UTC-6144wsNuaI@https://www.ischiaeventi.com/
DTSTAMP:20260424T123128Z
DESCRIPTION:Summer Time Serrara: MUSICNIGHT CON DJ TONY ROMANO https://www.
 ischiaeventi.com/eventi-ad-ischia/cultura/dibattiti-ed-incontri-culturali/
 evento/31232-summer-time-serrara-musicnight-con-dj-tony-romano
DTSTART:20240718T190000Z
DTEND:20240718T215200Z
LOCATION:Borgo di Sant'Angelo (Via Nazario Sauro\, Sant'angelo NA\, Italia)
SUMMARY:Summer Time Serrara: MUSICNIGHT CON DJ TONY ROMANO
URL:https://www.ischiaeventi.com/eventi-ad-ischia/cultura/dibattiti-ed-inco
 ntri-culturali/evento/31232-summer-time-serrara-musicnight-con-dj-tony-rom
 ano
END:VEVENT
END:VCALENDAR
