BEGIN:VCALENDAR
VERSION:2.0
PRODID:-//https://www.ischiaeventi.com///NONSGML kigkonsult.se iCalcreator 2.10.15//
METHOD:PUBLISH
BEGIN:VEVENT
UID:20260424T111601UTC-6601nujUls@https://www.ischiaeventi.com/
DTSTAMP:20260424T111601Z
DESCRIPTION:Summer Time Serrara: BELVEDERE AL CALAR DEL SOLE MUSICA CON DJ 
 TONY ROMANO https://www.ischiaeventi.com/eventi-ad-ischia/cultura/dibattit
 i-ed-incontri-culturali/evento/31229-summer-time-serrara-belvedere-al-cala
 r-del-sole-musica-con-dj-tony-romano
DTSTART:20240712T170000Z
DTEND:20240712T215200Z
LOCATION:Piazza Serrara (80070 Serrara Fontana NA\, Italia)
SUMMARY:Summer Time Serrara: BELVEDERE AL CALAR DEL SOLE MUSICA CON DJ TONY
  ROMANO
URL:https://www.ischiaeventi.com/eventi-ad-ischia/cultura/dibattiti-ed-inco
 ntri-culturali/evento/31229-summer-time-serrara-belvedere-al-calar-del-sol
 e-musica-con-dj-tony-romano
END:VEVENT
END:VCALENDAR
