BEGIN:VCALENDAR
VERSION:2.0
PRODID:-//https://www.ischiaeventi.com///NONSGML kigkonsult.se iCalcreator 2.10.15//
METHOD:PUBLISH
BEGIN:VEVENT
UID:20260424T071340UTC-9696Oopvgi@https://www.ischiaeventi.com/
DTSTAMP:20260424T071340Z
DESCRIPTION: https://www.ischiaeventi.com/eventi-ad-ischia/cultura/dibattit
 i-ed-incontri-culturali/evento/30531-borgo-in-festa
DTSTART:20240607T153000Z
DTEND:20240607T212300Z
LOCATION:Borgo di Ischia Ponte (Piazzale Aragonese\, 1\, 80077 Ischia\, Nap
 les\, Italy)
SUMMARY:Borgo in festa
URL:https://www.ischiaeventi.com/eventi-ad-ischia/cultura/dibattiti-ed-inco
 ntri-culturali/evento/30531-borgo-in-festa
END:VEVENT
END:VCALENDAR
