BEGIN:VCALENDAR
VERSION:2.0
PRODID:-//https://www.ischiaeventi.com///NONSGML kigkonsult.se iCalcreator 2.10.15//
METHOD:PUBLISH
BEGIN:VEVENT
UID:20260424T071232UTC-5519hnuDIT@https://www.ischiaeventi.com/
DTSTAMP:20260424T071232Z
DESCRIPTION:Il 28 giugno Alex Britti in concerto ad Ischia sulla spiaggia l
 ibera di San Pietro ad Ischia https://www.ischiaeventi.com/eventi-ad-ischi
 a/cultura/dibattiti-ed-incontri-culturali/evento/30016-alex-britti-in-conc
 erto
DTSTART:20240628T190000Z
DTEND:20240628T214900Z
LOCATION:Spiaggia San Pietro\, Ischia (Via Francesco Buonocore\, 80077 Isch
 ia NA\, Italia)
SUMMARY:Alex Britti in concerto
URL:https://www.ischiaeventi.com/eventi-ad-ischia/cultura/dibattiti-ed-inco
 ntri-culturali/evento/30016-alex-britti-in-concerto
END:VEVENT
END:VCALENDAR
