BEGIN:VCALENDAR
VERSION:2.0
PRODID:-//https://www.ischiaeventi.com///NONSGML kigkonsult.se iCalcreator 2.10.15//
METHOD:PUBLISH
BEGIN:VEVENT
UID:20260424T153929UTC-9641WvEeVW@https://www.ischiaeventi.com/
DTSTAMP:20260424T153929Z
DESCRIPTION:La gara di nuoto più importante dell’isola si svolge a Forio\, 
 si parte dalla bellissima Baia di San Francesco con arrivo alla Spiaggia d
 ella Chiaia\, tutti possono partecipare ma solo uno sarà il vincitore! htt
 ps://www.ischiaeventi.com/eventi-ad-ischia/cultura/dibattiti-ed-incontri-c
 ulturali/evento/29263-gara-di-nuoto-a-forio
DTSTART;VALUE=DATE:20240825
LOCATION:Forio d’Ischia (80075 Forio NA\, Italia)
SUMMARY:Gara di nuoto a Forio
URL:https://www.ischiaeventi.com/eventi-ad-ischia/cultura/dibattiti-ed-inco
 ntri-culturali/evento/29263-gara-di-nuoto-a-forio
END:VEVENT
END:VCALENDAR
