BEGIN:VCALENDAR
VERSION:2.0
PRODID:-//https://www.ischiaeventi.com///NONSGML kigkonsult.se iCalcreator 2.10.15//
METHOD:PUBLISH
BEGIN:VEVENT
UID:20260424T071300UTC-4478iGkxIe@https://www.ischiaeventi.com/
DTSTAMP:20260424T071300Z
DESCRIPTION:Da anni ormai a Ferragosto si mangia il pane e pomodoro all’isc
 hitana\, sui pendii del monte Epomeo\, ma prima il tour dell’antico villag
 gio di pietra dei Frassitelli https://www.ischiaeventi.com/eventi-ad-ischi
 a/cultura/dibattiti-ed-incontri-culturali/evento/29261-ferragosto-alla-fal
 anga
DTSTART;VALUE=DATE:20240815
LOCATION:Forio d’Ischia (80075 Forio NA\, Italia)
SUMMARY:Ferragosto alla Falanga
URL:https://www.ischiaeventi.com/eventi-ad-ischia/cultura/dibattiti-ed-inco
 ntri-culturali/evento/29261-ferragosto-alla-falanga
END:VEVENT
END:VCALENDAR
