BEGIN:VCALENDAR
VERSION:2.0
PRODID:-//https://www.ischiaeventi.com///NONSGML kigkonsult.se iCalcreator 2.10.15//
METHOD:PUBLISH
BEGIN:VEVENT
UID:20260424T080427UTC-5761oGi045@https://www.ischiaeventi.com/
DTSTAMP:20260424T080427Z
DESCRIPTION:La mostra è visitabile dal martedì alla domenica dalle 19.00 al
 le 24.00\, i quadri in esposizione sono disponibili per eventuali acquisti
 . https://www.ischiaeventi.com/eventi-ad-ischia/cultura/dibattiti-ed-incon
 tri-culturali/evento/29148-mostra-fotografica-punti-di-vista
DTSTART;VALUE=DATE:20240501
LOCATION:Kiwi Jam (Via Luigi Mazzella\, 42\, 80077 Ischia NA\, Italia)
SUMMARY:Mostra fotografica punti di vista
URL:https://www.ischiaeventi.com/eventi-ad-ischia/cultura/dibattiti-ed-inco
 ntri-culturali/evento/29148-mostra-fotografica-punti-di-vista
END:VEVENT
END:VCALENDAR
