BEGIN:VCALENDAR
VERSION:2.0
PRODID:-//https://www.ischiaeventi.com///NONSGML kigkonsult.se iCalcreator 2.10.15//
METHOD:PUBLISH
BEGIN:VEVENT
UID:20260424T090255UTC-6482j1KsO9@https://www.ischiaeventi.com/
DTSTAMP:20260424T090255Z
DESCRIPTION:Esposizione Iacono Mattera Waschimps https://www.ischiaeventi.c
 om/eventi-ad-ischia/cultura/dibattiti-ed-incontri-culturali/evento/28770-e
 sposizione-iacono-mattera-waschimps
DTSTART:20240403T160000Z
DTEND:20240403T180000Z
LOCATION:Villa Arbusto (Corso Angelo Rizzoli\, 194\, 80076 Lacco Ameno NA\,
  Italia)
SUMMARY:Esposizione Iacono Mattera Waschimps
URL:https://www.ischiaeventi.com/eventi-ad-ischia/cultura/dibattiti-ed-inco
 ntri-culturali/evento/28770-esposizione-iacono-mattera-waschimps
END:VEVENT
END:VCALENDAR
