BEGIN:VCALENDAR
VERSION:2.0
PRODID:-//https://www.ischiaeventi.com///NONSGML kigkonsult.se iCalcreator 2.10.15//
METHOD:PUBLISH
BEGIN:VEVENT
UID:20260424T091627UTC-8394cecKUs@https://www.ischiaeventi.com/
DTSTAMP:20260424T091627Z
DESCRIPTION:Inaugurazione Iacono Mattera Waschimps https://www.ischiaeventi
 .com/eventi-ad-ischia/cultura/dibattiti-ed-incontri-culturali/evento/28757
 -inaugurazione-iacono-mattera-waschimps
DTSTART:20240323T170000Z
DTEND:20240323T190000Z
LOCATION:Villa Arbusto (Corso Angelo Rizzoli\, 194\, 80076 Lacco Ameno NA\,
  Italia)
SUMMARY:Inaugurazione Iacono Mattera Waschimps
URL:https://www.ischiaeventi.com/eventi-ad-ischia/cultura/dibattiti-ed-inco
 ntri-culturali/evento/28757-inaugurazione-iacono-mattera-waschimps
END:VEVENT
END:VCALENDAR
