BEGIN:VCALENDAR
VERSION:2.0
PRODID:-//https://www.ischiaeventi.com///NONSGML kigkonsult.se iCalcreator 2.10.15//
METHOD:PUBLISH
BEGIN:VEVENT
UID:20260424T062852UTC-5683itW8oc@https://www.ischiaeventi.com/
DTSTAMP:20260424T062852Z
DESCRIPTION:Presso il pontile 'V. Napoleone' Benedizione delle Palme e&nbsp
 \;Processione fino alla Chiesa parrocchiale dove ci sarà la S. Messa https
 ://www.ischiaeventi.com/eventi-ad-ischia/cultura/dibattiti-ed-incontri-cul
 turali/evento/249774-pasqua-a-lacco-ameno-benedizione-delle-palme
DTSTART:20260329T083000Z
DTEND:20260329T110000Z
LOCATION:Pontile Napoleone  (80076 Lacco Ameno NA\, Italia)
SUMMARY:Pasqua a Lacco Ameno: benedizione delle palme
URL:https://www.ischiaeventi.com/eventi-ad-ischia/cultura/dibattiti-ed-inco
 ntri-culturali/evento/249774-pasqua-a-lacco-ameno-benedizione-delle-palme
END:VEVENT
END:VCALENDAR
