BEGIN:VCALENDAR
VERSION:2.0
PRODID:-//https://www.ischiaeventi.com///NONSGML kigkonsult.se iCalcreator 2.10.15//
METHOD:PUBLISH
BEGIN:VEVENT
UID:20260424T070035UTC-25300Cl7tR@https://www.ischiaeventi.com/
DTSTAMP:20260424T070035Z
DESCRIPTION:L'intelligenza artificiale nel settore turisticoRelatore Prof M
 auro SciarelliCoordinatore del corso di economia aziendale UNINA Federico 
 IISALA CONGRESSI IPS 'V. TELESE' ISCHIA 9 MARZO 2026ORE 10:30INGRESSO LIBE
 RO https://www.ischiaeventi.com/eventi-ad-ischia/cultura/dibattiti-ed-inco
 ntri-culturali/evento/249715-lintelligenza-artificiale-nel-settore-turisti
 co
DTSTART:20260325T093000Z
DTEND:20260325T120000Z
LOCATION:IPS 'Vincenzo Telese' (Via Fondo Bosso\, 3\, 80077 Ischia NA\, Ita
 lia)
SUMMARY:L'intelligenza artificiale nel settore turistico
URL:https://www.ischiaeventi.com/eventi-ad-ischia/cultura/dibattiti-ed-inco
 ntri-culturali/evento/249715-lintelligenza-artificiale-nel-settore-turisti
 co
END:VEVENT
END:VCALENDAR
