BEGIN:VCALENDAR
VERSION:2.0
PRODID:-//https://www.ischiaeventi.com///NONSGML kigkonsult.se iCalcreator 2.10.15//
METHOD:PUBLISH
BEGIN:VEVENT
UID:20260424T085518UTC-8028NWjcvv@https://www.ischiaeventi.com/
DTSTAMP:20260424T085518Z
DESCRIPTION:Universo DonnaMostra d'arte collettiva Dal 7 al 13 marzo 2026 d
 al lunedì al venerdì 15.00-19.30Vernissage 7 marzo 2026 ore 17.30Con la pa
 rtecipazione di: Nello Di Micco psicoterapeuta Salvatore Di Costanzo scrit
 tore Clementina Petroni pittrice e poetessa https://www.ischiaeventi.com/e
 venti-ad-ischia/cultura/dibattiti-ed-incontri-culturali/evento/249639-most
 ra-darte-collettiva-universo-donna
DTSTART:20260307T163000Z
DTEND:20260307T180000Z
LOCATION:Vico Sant'Antonio Abate (Via Sant'Antonio Abate\, 80075\, Forio\, 
 Napoli)
SUMMARY:Mostra d'arte collettiva Universo donna
URL:https://www.ischiaeventi.com/eventi-ad-ischia/cultura/dibattiti-ed-inco
 ntri-culturali/evento/249639-mostra-darte-collettiva-universo-donna
END:VEVENT
END:VCALENDAR
