BEGIN:VCALENDAR
VERSION:2.0
PRODID:-//https://www.ischiaeventi.com///NONSGML kigkonsult.se iCalcreator 2.10.15//
METHOD:PUBLISH
BEGIN:VEVENT
UID:20260424T085453UTC-1086674Lt5@https://www.ischiaeventi.com/
DTSTAMP:20260424T085453Z
DESCRIPTION:Concerto di Natale presentato da Buon Pastore https://www.ischi
 aeventi.com/eventi-ad-ischia/cultura/dibattiti-ed-incontri-culturali/event
 o/249363-natale-a-ischia-concerto-di-natale
DTSTART:20251221T183000Z
DTEND:20251221T200000Z
LOCATION:Chiesa Buon Pastore (Via Leonardo Mazzella\, 119\, 80077 Ischia NA
 \, Italia)
SUMMARY:Natale a Ischia: concerto di Natale
URL:https://www.ischiaeventi.com/eventi-ad-ischia/cultura/dibattiti-ed-inco
 ntri-culturali/evento/249363-natale-a-ischia-concerto-di-natale
END:VEVENT
END:VCALENDAR
