BEGIN:VCALENDAR
VERSION:2.0
PRODID:-//https://www.ischiaeventi.com///NONSGML kigkonsult.se iCalcreator 2.10.15//
METHOD:PUBLISH
BEGIN:VEVENT
UID:20260424T071459UTC-6597o3Nv7Z@https://www.ischiaeventi.com/
DTSTAMP:20260424T071459Z
DESCRIPTION:Un viaggio nei sapori autentici dei Campi Flegrei con degustazi
 oni preparate dagli allievi dell'istituto AlberghieroPresentazione del pro
 getto di tutela e sviluppo del patrimonio agrumicolo dell'isola d'ischia D
 IVENTA CUSTODE DI UN AGRUMETOQuesta iniziativa è contro il 'sistema' della
  camorra Con il patrocinio di: REGIONE CAMPANIA https://www.ischiaeventi.c
 om/eventi-ad-ischia/cultura/dibattiti-ed-incontri-culturali/evento/249358-
 natale-a-ischia-festa-del-mandarino
DTSTART:20251220T100000Z
DTEND:20251220T120000Z
LOCATION:IPS 'Vincenzo Telese' (Via Fondo Bosso\, 3\, 80077 Ischia NA\, Ita
 lia)
SUMMARY:Natale a Ischia: Festa del mandarino
URL:https://www.ischiaeventi.com/eventi-ad-ischia/cultura/dibattiti-ed-inco
 ntri-culturali/evento/249358-natale-a-ischia-festa-del-mandarino
END:VEVENT
END:VCALENDAR
