BEGIN:VCALENDAR
VERSION:2.0
PRODID:-//https://www.ischiaeventi.com///NONSGML kigkonsult.se iCalcreator 2.10.15//
METHOD:PUBLISH
BEGIN:VEVENT
UID:20260424T111544UTC-864481XK2D@https://www.ischiaeventi.com/
DTSTAMP:20260424T111544Z
DESCRIPTION:20.00 La Magia del Natale in coro nella cornice del Presepe Viv
 ente a cura della Parrocchia di S.M. Montevergine nel&nbsp\;Santuario di S
 an Francesco di Paola https://www.ischiaeventi.com/eventi-ad-ischia/cultur
 a/dibattiti-ed-incontri-culturali/evento/249357-natale-a-forio-2025-la-mag
 ia-del-natale-in-coro-nella-cornice-del-presepe-vivente
DTSTART:20251221T190000Z
DTEND:20251221T220000Z
LOCATION:Santuario di San Francesco di Paola  (Via Tommaso Cigliano\, 144\,
  80075 Forio NA\, Italy)
SUMMARY:Natale a Forio 2025: La Magia del Natale in coro nella cornice del 
 Presepe Vivente 
URL:https://www.ischiaeventi.com/eventi-ad-ischia/cultura/dibattiti-ed-inco
 ntri-culturali/evento/249357-natale-a-forio-2025-la-magia-del-natale-in-co
 ro-nella-cornice-del-presepe-vivente
END:VEVENT
END:VCALENDAR
