BEGIN:VCALENDAR
VERSION:2.0
PRODID:-//https://www.ischiaeventi.com///NONSGML kigkonsult.se iCalcreator 2.10.15//
METHOD:PUBLISH
BEGIN:VEVENT
UID:20260424T071346UTC-8530nmc5c8@https://www.ischiaeventi.com/
DTSTAMP:20260424T071346Z
DESCRIPTION:Tombolata solidale con Anna Castagna https://www.ischiaeventi.c
 om/eventi-ad-ischia/cultura/dibattiti-ed-incontri-culturali/evento/249295-
 natale-a-forio-2025-tombolata-solidale
DTSTART:20251221T160000Z
DTEND:20251221T180000Z
LOCATION:Sorriso Thermae Resort & SPA  (Via Provinciale Panza\, 209\, 80075
  Forio NA\, Italia)
SUMMARY:Natale a Forio 2025: tombolata solidale
URL:https://www.ischiaeventi.com/eventi-ad-ischia/cultura/dibattiti-ed-inco
 ntri-culturali/evento/249295-natale-a-forio-2025-tombolata-solidale
END:VEVENT
END:VCALENDAR
