BEGIN:VCALENDAR
VERSION:2.0
PRODID:-//https://www.ischiaeventi.com///NONSGML kigkonsult.se iCalcreator 2.10.15//
METHOD:PUBLISH
BEGIN:VEVENT
UID:20260424T071341UTC-7916pTI57K@https://www.ischiaeventi.com/
DTSTAMP:20260424T071341Z
DESCRIPTION:Venerdì 2 Gennaio 202615:00 BOUTIQUE APERTE 50% Sconto15:00 MUS
 ICA LIVE con Giovanni Apetino Spritz Time al tramontoPARCHEGGIO LIBERO e C
 ARRELLO A DISPOSIZIONEPER CHI HA PROBLEMI MOTORISant AngeloSENARE FONTANA 
 https://www.ischiaeventi.com/eventi-ad-ischia/cultura/dibattiti-ed-incontr
 i-culturali/evento/249177-natale-a-santangelo-musica-live
DTSTART:20260102T140000Z
DTEND:20260102T180000Z
LOCATION:Borgo di Sant'Angelo (Via Nazario Sauro\, Sant'angelo NA\, Italia)
SUMMARY:Natale a Sant'Angelo: musica live
URL:https://www.ischiaeventi.com/eventi-ad-ischia/cultura/dibattiti-ed-inco
 ntri-culturali/evento/249177-natale-a-santangelo-musica-live
END:VEVENT
END:VCALENDAR
