BEGIN:VCALENDAR
VERSION:2.0
PRODID:-//https://www.ischiaeventi.com///NONSGML kigkonsult.se iCalcreator 2.10.15//
METHOD:PUBLISH
BEGIN:VEVENT
UID:20260424T081031UTC-6217VuxSC1@https://www.ischiaeventi.com/
DTSTAMP:20260424T081031Z
DESCRIPTION:19.00 Zampogne\, suoni e sapori antichi i suoni dolci dell’infa
 nzia e tipici del natale e gustosi piatti tradizionali lungo il Corso di F
 orio a cura dell’Associazione Actus Tragicus\n20.00 Dadi e Pandoro giochi 
 da tavolo\, giochi di ruolo e giochi di carte&nbsp\; er un immersione tota
 le nel mondo ludico con un dolce tocco di tradizione a cura dell’Associazi
 one Drago Verde Ischia nel Chiostro di San Francesco in Piazza&nbsp\;Munic
 ipio https://www.ischiaeventi.com/eventi-ad-ischia/cultura/dibattiti-ed-in
 contri-culturali/evento/249085-natale-a-forio-2025-suoni-e-sapori-antichi-
 zampogne-e-ciaramelle
DTSTART:20251212T173000Z
DTEND:20251212T195900Z
LOCATION:Piazza Municipio\, Forio (Piazza Municipio\, 9\, 80075 Forio NA\, 
 Italia)
SUMMARY:Natale a Forio 2025: suoni e sapori antichi Zampogne e Ciaramelle
URL:https://www.ischiaeventi.com/eventi-ad-ischia/cultura/dibattiti-ed-inco
 ntri-culturali/evento/249085-natale-a-forio-2025-suoni-e-sapori-antichi-za
 mpogne-e-ciaramelle
END:VEVENT
END:VCALENDAR
