BEGIN:VCALENDAR
VERSION:2.0
PRODID:-//https://www.ischiaeventi.com///NONSGML kigkonsult.se iCalcreator 2.10.15//
METHOD:PUBLISH
BEGIN:VEVENT
UID:20260424T071347UTC-16685NOxa3@https://www.ischiaeventi.com/
DTSTAMP:20260424T071347Z
DESCRIPTION:Ore 15:00 – Piazzetta San GirolamoArriva la Befana con una fest
 a dedicata a bambini e famiglie\, tra animazione e divertimento.\nOre 20:0
 0 – Piazza Antica ReggiaUltimo appuntamento con “C’è Piazza per Te”. https
 ://www.ischiaeventi.com/eventi-ad-ischia/cultura/dibattiti-ed-incontri-cul
 turali/evento/249077-natale-a-ischia-arriva-la-befana
DTSTART:20260105T140000Z
DTEND:20260105T195900Z
LOCATION:piazzetta San Girolamo Ischia  ()
SUMMARY:Natale a Ischia: Arriva la Befana
URL:https://www.ischiaeventi.com/eventi-ad-ischia/cultura/dibattiti-ed-inco
 ntri-culturali/evento/249077-natale-a-ischia-arriva-la-befana
END:VEVENT
END:VCALENDAR
