BEGIN:VCALENDAR
VERSION:2.0
PRODID:-//https://www.ischiaeventi.com///NONSGML kigkonsult.se iCalcreator 2.10.15//
METHOD:PUBLISH
BEGIN:VEVENT
UID:20260424T065656UTC-0196m2SJ2M@https://www.ischiaeventi.com/
DTSTAMP:20260424T065656Z
DESCRIPTION:CONCERTO AL CALAR DEL SOLE: ORCHESTRA DI FIATI DELLA BANDA MUSI
 CALE AURORA https://www.ischiaeventi.com/eventi-ad-ischia/cultura/dibattit
 i-ed-incontri-culturali/evento/103205-estate-forio-2025-concerto-al-calar-
 del-sole
DTSTART:20250728T173000Z
DTEND:20250728T215900Z
LOCATION:Comune di Forio (Piazza Municipio\, 1\, 80075 Forio NA\, Italia)
SUMMARY:Estate Forio 2025: concerto al calar del sole
URL:https://www.ischiaeventi.com/eventi-ad-ischia/cultura/dibattiti-ed-inco
 ntri-culturali/evento/103205-estate-forio-2025-concerto-al-calar-del-sole
END:VEVENT
END:VCALENDAR
