BEGIN:VCALENDAR
VERSION:2.0
PRODID:-//https://www.ischiaeventi.com///NONSGML kigkonsult.se iCalcreator 2.10.15//
METHOD:PUBLISH
BEGIN:VEVENT
UID:20260424T063508UTC-7402BrU5n3@https://www.ischiaeventi.com/
DTSTAMP:20260424T063508Z
DESCRIPTION:Mostra Veranica Acunto\nIngresso Libero\n&nbsp\; https://www.is
 chiaeventi.com/eventi-ad-ischia/cultura/convegni/evento/68469-mostra-veron
 ica-acunto
DTSTART:20250429T173000Z
DTEND:20250429T190000Z
LOCATION:Villa Arbusto (Corso Angelo Rizzoli\, 194\, 80076 Lacco Ameno NA\,
  Italia)
SUMMARY:Mostra Veronica Acunto
URL:https://www.ischiaeventi.com/eventi-ad-ischia/cultura/convegni/evento/6
 8469-mostra-veronica-acunto
END:VEVENT
END:VCALENDAR
