BEGIN:VCALENDAR
VERSION:2.0
PRODID:-//https://www.ischiaeventi.com///NONSGML kigkonsult.se iCalcreator 2.10.15//
METHOD:PUBLISH
BEGIN:VEVENT
UID:20260424T090752UTC-4664hrvAnd@https://www.ischiaeventi.com/
DTSTAMP:20260424T090752Z
DESCRIPTION:Mostra Veranica Acunto\nIngresso Libero\n&nbsp\; https://www.is
 chiaeventi.com/eventi-ad-ischia/cultura/convegni/evento/68460-mostra-veron
 ica-acunto
DTSTART:20250420T173000Z
DTEND:20250420T190000Z
LOCATION:Villa Arbusto (Corso Angelo Rizzoli\, 194\, 80076 Lacco Ameno NA\,
  Italia)
SUMMARY:Mostra Veronica Acunto
URL:https://www.ischiaeventi.com/eventi-ad-ischia/cultura/convegni/evento/6
 8460-mostra-veronica-acunto
END:VEVENT
END:VCALENDAR
