BEGIN:VCALENDAR
VERSION:2.0
PRODID:-//https://www.ischiaeventi.com///NONSGML kigkonsult.se iCalcreator 2.10.15//
METHOD:PUBLISH
BEGIN:VEVENT
UID:20260424T121332UTC-3838KSK6hH@https://www.ischiaeventi.com/
DTSTAMP:20260424T121332Z
DESCRIPTION:Summer Time Serrara: DR WHY E MUSICNIGHT CON SIMONE E ANDY DJ h
 ttps://www.ischiaeventi.com/eventi-ad-ischia/cultura/convegni/evento/31239
 -summer-time-serrara-musicnight-con-dj-alex-cannava
DTSTART:20240801T190000Z
DTEND:20240801T215200Z
LOCATION:Borgo di Sant'Angelo (Via Nazario Sauro\, Sant'angelo NA\, Italia)
SUMMARY:Summer Time Serrara: MUSICNIGHT CON DJ ALEX CANNAVA
URL:https://www.ischiaeventi.com/eventi-ad-ischia/cultura/convegni/evento/3
 1239-summer-time-serrara-musicnight-con-dj-alex-cannava
END:VEVENT
END:VCALENDAR
