BEGIN:VCALENDAR
VERSION:2.0
PRODID:-//https://www.ischiaeventi.com///NONSGML kigkonsult.se iCalcreator 2.10.15//
METHOD:PUBLISH
BEGIN:VEVENT
UID:20260424T134056UTC-4133gh9LZW@https://www.ischiaeventi.com/
DTSTAMP:20260424T134056Z
DESCRIPTION:Summer Time Serrara: 'POLLOCK E L'ACTION https://www.ischiaeven
 ti.com/eventi-ad-ischia/cultura/convegni/evento/31235-summer-time-serrara-
 pollock-e-laction
DTSTART:20240724T190000Z
DTEND:20240724T215200Z
LOCATION:Piazza Serrara (80070 Serrara Fontana NA\, Italia)
SUMMARY:Summer Time Serrara: 'POLLOCK E L'ACTION 
URL:https://www.ischiaeventi.com/eventi-ad-ischia/cultura/convegni/evento/3
 1235-summer-time-serrara-pollock-e-laction
END:VEVENT
END:VCALENDAR
