BEGIN:VCALENDAR
VERSION:2.0
PRODID:-//https://www.ischiaeventi.com///NONSGML kigkonsult.se iCalcreator 2.10.15//
METHOD:PUBLISH
BEGIN:VEVENT
UID:20260424T063707UTC-7723KvGrjo@https://www.ischiaeventi.com/
DTSTAMP:20260424T063707Z
DESCRIPTION:Esposizione Iacono Mattera Waschimps https://www.ischiaeventi.c
 om/eventi-ad-ischia/cultura/convegni/evento/28792-esposizione-iacono-matte
 ra-waschimps
DTSTART:20240425T160000Z
DTEND:20240425T180000Z
LOCATION:Villa Arbusto (Corso Angelo Rizzoli\, 194\, 80076 Lacco Ameno NA\,
  Italia)
SUMMARY:Esposizione Iacono Mattera Waschimps
URL:https://www.ischiaeventi.com/eventi-ad-ischia/cultura/convegni/evento/2
 8792-esposizione-iacono-mattera-waschimps
END:VEVENT
END:VCALENDAR
