BEGIN:VCALENDAR
VERSION:2.0
PRODID:-//https://www.ischiaeventi.com///NONSGML kigkonsult.se iCalcreator 2.10.15//
METHOD:PUBLISH
BEGIN:VEVENT
UID:20260424T051137UTC-1477F1tSNH@https://www.ischiaeventi.com/
DTSTAMP:20260424T051137Z
DESCRIPTION:Esposizione Iacono Mattera Waschimps https://www.ischiaeventi.c
 om/eventi-ad-ischia/cultura/convegni/evento/28763-esposizione-iacono-matte
 ra-waschimps
DTSTART:20240327T170000Z
DTEND:20240327T190000Z
LOCATION:Villa Arbusto (Corso Angelo Rizzoli\, 194\, 80076 Lacco Ameno NA\,
  Italia)
SUMMARY:Esposizione Iacono Mattera Waschimps
URL:https://www.ischiaeventi.com/eventi-ad-ischia/cultura/convegni/evento/2
 8763-esposizione-iacono-mattera-waschimps
END:VEVENT
END:VCALENDAR
