BEGIN:VCALENDAR
VERSION:2.0
PRODID:-//https://www.ischiaeventi.com///NONSGML kigkonsult.se iCalcreator 2.10.15//
METHOD:PUBLISH
BEGIN:VEVENT
UID:20260424T121255UTC-8365o1Ujeo@https://www.ischiaeventi.com/
DTSTAMP:20260424T121255Z
DESCRIPTION:Celebrazione della S. Messa di inizio anno e processione e bene
 dizione al paese https://www.ischiaeventi.com/eventi-ad-ischia/cultura/con
 vegni/evento/249215-natale-a-serrara-buon-2026
DTSTART:20260101T170000Z
DTEND:20260101T190000Z
LOCATION:Comune di Serrara Fontana (Via Roma\, 79\, 80070 Serrara Fontana N
 A\, Italia)
SUMMARY:Natale a Serrara:  Buon 2026!
URL:https://www.ischiaeventi.com/eventi-ad-ischia/cultura/convegni/evento/2
 49215-natale-a-serrara-buon-2026
END:VEVENT
END:VCALENDAR
