BEGIN:VCALENDAR
VERSION:2.0
PRODID:-//https://www.ischiaeventi.com///NONSGML kigkonsult.se iCalcreator 2.10.15//
METHOD:PUBLISH
BEGIN:VEVENT
UID:20260424T083148UTC-41578OfUfk@https://www.ischiaeventi.com/
DTSTAMP:20260424T083148Z
DESCRIPTION:Docufilm scritto e diretto da Eduardo Cocciardo https://www.isc
 hiaeventi.com/eventi-ad-ischia/cultura/architettura/evento/40005-il-fuoco-
 di-santa-lucia
DTSTART:20241223T170000Z
DTEND:20241223T190000Z
LOCATION:Cinema delle Vittorie (Corso Avvocato Francesco Regine\, 32\, 8007
 5 Forio NA\, Italia)
SUMMARY:Il fuoco di Santa Lucia
URL:https://www.ischiaeventi.com/eventi-ad-ischia/cultura/architettura/even
 to/40005-il-fuoco-di-santa-lucia
END:VEVENT
END:VCALENDAR
