BEGIN:VCALENDAR
VERSION:2.0
PRODID:-//https://www.ischiaeventi.com///NONSGML kigkonsult.se iCalcreator 2.10.15//
METHOD:PUBLISH
BEGIN:VEVENT
UID:20260424T053855UTC-1621oDHVmA@https://www.ischiaeventi.com/
DTSTAMP:20260424T053855Z
DESCRIPTION:Presepi in Cammino percorsi presepiali\, artigianali e artistic
 i\, chiese e boutique https://www.ischiaeventi.com/eventi-ad-ischia/cultur
 a/architettura/evento/38227-lacco-ameno-in-canti-di-natale-presepi-in-camm
 ino
DTSTART;VALUE=DATE:20241231
LOCATION:Lacco Ameno (Piazza Santa Restituta\, 80076 Lacco Ameno NA\, Itali
 a)
SUMMARY:Lacco Ameno In-canti di Natale: presepi in cammino
URL:https://www.ischiaeventi.com/eventi-ad-ischia/cultura/architettura/even
 to/38227-lacco-ameno-in-canti-di-natale-presepi-in-cammino
END:VEVENT
END:VCALENDAR
