BEGIN:VCALENDAR
VERSION:2.0
PRODID:-//https://www.ischiaeventi.com///NONSGML kigkonsult.se iCalcreator 2.10.15//
METHOD:PUBLISH
BEGIN:VEVENT
UID:20260424T074204UTC-38996MzU8U@https://www.ischiaeventi.com/
DTSTAMP:20260424T074204Z
DESCRIPTION:Ischitana\, ballare e cantare https://www.ischiaeventi.com/even
 ti-ad-ischia/cultura/architettura/evento/31839-ischitana
DTSTART:20240813T180000Z
DTEND:20240813T214900Z
LOCATION:Parco Termale Negombo (Baia di S. Montano\, - 80076 Lacco Ameno NA
 \, Italia)
SUMMARY:Ischitana
URL:https://www.ischiaeventi.com/eventi-ad-ischia/cultura/architettura/even
 to/31839-ischitana
END:VEVENT
END:VCALENDAR
