BEGIN:VCALENDAR
VERSION:2.0
PRODID:-//https://www.ischiaeventi.com///NONSGML kigkonsult.se iCalcreator 2.10.15//
METHOD:PUBLISH
BEGIN:VEVENT
UID:20260424T053133UTC-7201u1e1cC@https://www.ischiaeventi.com/
DTSTAMP:20260424T053133Z
DESCRIPTION:CECILIA TRANIhip hop\nBODY BALLET DANCEdi Valentina Mazzello ht
 tps://www.ischiaeventi.com/eventi-ad-ischia/cultura/architettura/evento/30
 759-calici-di-cultura-cecilia-trani-hip-hop
DTSTART:20240616T163000Z
DTEND:20240616T183000Z
LOCATION:Piazzale Cristoforo Colombo (Via Cristoforo Colombo\, 80075 Forio 
 NA\, Italia)
SUMMARY:Calici di cultura: Cecilia Trani hip hop
URL:https://www.ischiaeventi.com/eventi-ad-ischia/cultura/architettura/even
 to/30759-calici-di-cultura-cecilia-trani-hip-hop
END:VEVENT
END:VCALENDAR
