BEGIN:VCALENDAR
VERSION:2.0
PRODID:-//https://www.ischiaeventi.com///NONSGML kigkonsult.se iCalcreator 2.10.15//
METHOD:PUBLISH
BEGIN:VEVENT
UID:20260424T053030UTC-9222MZFHeW@https://www.ischiaeventi.com/
DTSTAMP:20260424T053030Z
DESCRIPTION:JAZZ SWING &amp\; NAPOLETAN SWING https://www.ischiaeventi.com/
 eventi-ad-ischia/cultura/architettura/evento/30755-calici-di-cultura-nient
 edimeno-band
DTSTART:20240613T200000Z
DTEND:20240613T215900Z
LOCATION:Piazzale Cristoforo Colombo (Via Cristoforo Colombo\, 80075 Forio 
 NA\, Italia)
SUMMARY:Calici di cultura: Nientedimeno Band
URL:https://www.ischiaeventi.com/eventi-ad-ischia/cultura/architettura/even
 to/30755-calici-di-cultura-nientedimeno-band
END:VEVENT
END:VCALENDAR
