BEGIN:VCALENDAR
VERSION:2.0
PRODID:-//https://www.ischiaeventi.com///NONSGML kigkonsult.se iCalcreator 2.10.15//
METHOD:PUBLISH
BEGIN:VEVENT
UID:20260424T064215UTC-2420cjv8Ga@https://www.ischiaeventi.com/
DTSTAMP:20260424T064215Z
DESCRIPTION:Esposizione Iacono Mattera Waschimps https://www.ischiaeventi.c
 om/eventi-ad-ischia/cultura/architettura/evento/28759-esposizione-iacono-m
 attera-waschimps
DTSTART:20240323T170000Z
DTEND:20240323T190000Z
LOCATION:Villa Arbusto (Corso Angelo Rizzoli\, 194\, 80076 Lacco Ameno NA\,
  Italia)
SUMMARY:Esposizione Iacono Mattera Waschimps
URL:https://www.ischiaeventi.com/eventi-ad-ischia/cultura/architettura/even
 to/28759-esposizione-iacono-mattera-waschimps
END:VEVENT
END:VCALENDAR
