BEGIN:VCALENDAR
VERSION:2.0
PRODID:-//https://www.ischiaeventi.com///NONSGML kigkonsult.se iCalcreator 2.10.15//
METHOD:PUBLISH
BEGIN:VEVENT
UID:20260424T140859UTC-8791LDZHMs@https://www.ischiaeventi.com/
DTSTAMP:20260424T140859Z
DESCRIPTION:Forio celebra il 25 aprile con una mattinata che tiene insieme 
 memoria e presente\, nel segno dei diritti e della partecipazione. L’appun
 tamento di quest’anno assume un significato particolare perché unisce due 
 ricorrenze fondamentali: gli 81 anni dalla Liberazione e gli 80 anni dal d
 iritto di voto alle donne\, tema al centro della tessera ANPI 2026. L’iniz
 iativa si terrà sabato 25 aprile\, dalle ore 10:00 alle 13:00\, in Piazza 
 Medaglia d’Oro\, con l’introduzione di Nenzi Carcaterra\, l’apertura del t
 esseramento ANPI 2026 e le letture a cura di Giuseppe Castiglione. Non sar
 à una commemorazione formale\, ma un momento di riflessione condivisa. La 
 giornata sarà infatti dedicata al ricordo di Renato Regine\, consigliere c
 omunale\, medico e figura profondamente radicata nel territorio\, scompars
 o improvvisamente nel 2026. Professionista stimato e punto di riferimento 
 nel campo sanitario\, Renato Regine ha rappresentato per decenni una prese
 nza attiva nella vita pubblica e civile dell’isola\, con un impegno costan
 te per la comunità e per i diritti. Il suo percorso umano e politico sarà 
 il filo che attraversa la mattinata: non come celebrazione\, ma come resti
 tuzione di una storia fatta di impegno quotidiano\, di battaglie civili po
 rtate avanti con coerenza\, spesso lontano dai riflettori. Il 25 aprile\, 
 così\, torna alla sua dimensione più autentica\, non solo una data da rico
 rdare\, ma uno spazio pubblico in cui interrogarsi su cosa significhi oggi
  libertà\, partecipazione e responsabilità collettiva. https://www.ischiae
 venti.com/eventi-ad-ischia/cultura/architettura/evento/249916-25-aprile-a-
 forio-memoria-diritti-e-comunita
DTSTART:20260425T080000Z
DTEND:20260425T110000Z
LOCATION:Piazza Medaglia d'oro (San Gaetano) (Piazza Luca Balsofiore\, 8\, 
 80075 Forio NA\, Italy)
SUMMARY:25 aprile a forio: memoria\, diritti e comunità
URL:https://www.ischiaeventi.com/eventi-ad-ischia/cultura/architettura/even
 to/249916-25-aprile-a-forio-memoria-diritti-e-comunita
END:VEVENT
END:VCALENDAR
