BEGIN:VCALENDAR
VERSION:2.0
PRODID:-//https://www.ischiaeventi.com///NONSGML kigkonsult.se iCalcreator 2.10.15//
METHOD:PUBLISH
BEGIN:VEVENT
UID:20260424T171640UTC-46173RMf5I@https://www.ischiaeventi.com/
DTSTAMP:20260424T171640Z
DESCRIPTION:Anna Maria Agostino e Teresa Sasso ci conducono nelle atmosfere
  di Cechov dove il racconto della Passione diventa luce che riscalda il cu
 oreAL PIANOFORTE MATTEO TRIOLOMERCOLEDÌ 1 APRILE 2026 ORE 17:00 Villa Arbu
 sto Lacco AmenoSaluti introduttiviMariangela CalisePresidente Fidapa Bpw I
 taly Sezione di Ischiacon il patrocinio morale del Comune di Lacco Ameno h
 ttps://www.ischiaeventi.com/eventi-ad-ischia/cultura/architettura/evento/2
 49799-passaggi-due-voci-per-raccontare-la-notte-in-cui-il-tempo-si-fermo
DTSTART:20260401T150000Z
DTEND:20260401T170000Z
LOCATION:Villa Arbusto (Corso Angelo Rizzoli\, 194\, 80076 Lacco Ameno NA\,
  Italia)
SUMMARY:PASSAGGI Due voci per raccontare la notte in cui il tempo si fermò
URL:https://www.ischiaeventi.com/eventi-ad-ischia/cultura/architettura/even
 to/249799-passaggi-due-voci-per-raccontare-la-notte-in-cui-il-tempo-si-fer
 mo
END:VEVENT
END:VCALENDAR
