BEGIN:VCALENDAR
VERSION:2.0
PRODID:-//https://www.ischiaeventi.com///NONSGML kigkonsult.se iCalcreator 2.10.15//
METHOD:PUBLISH
BEGIN:VEVENT
UID:20260424T171728UTC-234116h0P2@https://www.ischiaeventi.com/
DTSTAMP:20260424T171728Z
DESCRIPTION:Via Crucis per i Vicoli Saraceni https://www.ischiaeventi.com/e
 venti-ad-ischia/cultura/architettura/evento/249690-solenne-settenario-in-o
 nore-di-maria-ss-ma-addolorata
DTSTART:20260324T183000Z
DTEND:20260324T203000Z
LOCATION:Forio d’Ischia (80075 Forio NA\, Italia)
SUMMARY:Solenne settenario in onore di Maria SS.ma Addolorata
URL:https://www.ischiaeventi.com/eventi-ad-ischia/cultura/architettura/even
 to/249690-solenne-settenario-in-onore-di-maria-ss-ma-addolorata
END:VEVENT
END:VCALENDAR
