BEGIN:VCALENDAR
VERSION:2.0
PRODID:-//https://www.ischiaeventi.com///NONSGML kigkonsult.se iCalcreator 2.10.15//
METHOD:PUBLISH
BEGIN:VEVENT
UID:20260424T053634UTC-3544AUI1cx@https://www.ischiaeventi.com/
DTSTAMP:20260424T053634Z
DESCRIPTION:Processione con l'immagine di S. Giuseppe per le vie della zona
  Fango accompagnata dalla banda musicale 'Aurora'Città di Panza\; al rient
 ro S. Messa.Ore 21:00 - Spettacolo pirotecnico presso la località Fango a 
 cura di Ischia Pirica. https://www.ischiaeventi.com/eventi-ad-ischia/cultu
 ra/architettura/evento/249641-festeggiamenti-in-onore-di-san-giuseppe-proc
 essione-e-fuochi-di-artificio
DTSTART:20260319T160000Z
DTEND:20260319T210000Z
LOCATION:Lacco Ameno (Piazza Santa Restituta\, 80076 Lacco Ameno NA\, Itali
 a)
SUMMARY:Festeggiamenti in onore di SAN GIUSEPPE: processione e fuochi di ar
 tificio
URL:https://www.ischiaeventi.com/eventi-ad-ischia/cultura/architettura/even
 to/249641-festeggiamenti-in-onore-di-san-giuseppe-processione-e-fuochi-di-
 artificio
END:VEVENT
END:VCALENDAR
