BEGIN:VCALENDAR
VERSION:2.0
PRODID:-//https://www.ischiaeventi.com///NONSGML kigkonsult.se iCalcreator 2.10.15//
METHOD:PUBLISH
BEGIN:VEVENT
UID:20260424T232908UTC-0893RO2PvI@https://www.ischiaeventi.com/
DTSTAMP:20260424T232908Z
DESCRIPTION:La sagra più importante a Ischia si svolge a Panza: il vino\, l
 e salsicce\, i nostri prodoO locali\, le tradizioni\, i balli e la folklor
 isLca “N’drezzata” vi regaleranno la serata contadina più bella di sempre 
 https://www.ischiaeventi.com/en/events/tradizioni/society/event/29262-sagr
 a-del-vino-e-sausicciata-a-panza
DTSTART;VALUE=DATE:20240817
LOCATION:Forio d’Ischia (80075 Forio NA\, Italia)
SUMMARY:Sagra del vino e sausicciata a Panza
URL:https://www.ischiaeventi.com/en/events/tradizioni/society/event/29262-s
 agra-del-vino-e-sausicciata-a-panza
END:VEVENT
END:VCALENDAR
